BEGIN:VCALENDAR
VERSION:2.0
CALSCALE:GREGORIAN
BEGIN:VEVENT
SUMMARY:Sanftes Hatha Yoga / Outdoor Liegewiese Hallenfreizeitbad
DTSTART;TZID=Europe/Berlin:20210621T170000
DTEND;TZID=Europe/Berlin:20210621T183000
LOCATION:Liegewiese Hallenfreizeitbad, Karben
DESCRIPTION: Hatha Yoga umfasst eine Reihe von Yoga-Haltungen, die Deinen Körper, Deine Muskeln und Deinen Geist stärken und ausrichten. „Hatha“ lässt sich mit „kraftvoll“ oder auch „bewusst“ übersetzen. Dabei werden die Kanäle deines Körpers geöffnet, so dass die Energie frei fließen kann.

Eine Hatha Yogastunde ist geprägt von eher langsamen und entspannten Yoga Übungen – also eine gute Möglichkeit für Yoga Anfänger, sich mit Yoga vertraut zu machen.
STATUS:CONFIRMED
SEQUENCE:0
END:VEVENT
END:VCALENDAR