BEGIN:VCALENDAR
VERSION:2.0
CALSCALE:GREGORIAN
BEGIN:VEVENT
SUMMARY:Progressive Muskelentspannung / NUR Videolink
DTSTART;TZID=Europe/Berlin:20210604T173000
DTEND;TZID=Europe/Berlin:20210604T183000
LOCATION:Videolink
DESCRIPTION: Keine LIVE-ONLINE-Stunde. Du bekommst einen Videolink von mir, wenn Du diese Stunde buchst.
STATUS:CONFIRMED
SEQUENCE:0
END:VEVENT
END:VCALENDAR