BEGIN:VCALENDAR
VERSION:2.0
CALSCALE:GREGORIAN
BEGIN:VEVENT
SUMMARY:Sanftes Hatha Yoga / NUR Videolink
DTSTART;TZID=Europe/Berlin:20210614T170000
DTEND;TZID=Europe/Berlin:20210614T183000
LOCATION:Videolink
DESCRIPTION: Keine LIVE-ONLINE-Stunde. Du bekommst einen Videolink von mir, wenn Du diese Stunde buchst.
STATUS:CONFIRMED
SEQUENCE:0
END:VEVENT
END:VCALENDAR