BEGIN:VCALENDAR
VERSION:2.0
CALSCALE:GREGORIAN
BEGIN:VEVENT
SUMMARY:Hatha Yoga / NUR Videolink
DTSTART;TZID=Europe/Berlin:20210615T193000
DTEND;TZID=Europe/Berlin:20210615T210000
LOCATION:Videolink
DESCRIPTION: Keine LIVE-ONLINE-Stunde. Du bekommst einen Videolink von mir, wenn Du diese Stunde buchst.
STATUS:CONFIRMED
SEQUENCE:0
END:VEVENT
END:VCALENDAR