BEGIN:VCALENDAR
VERSION:2.0
CALSCALE:GREGORIAN
BEGIN:VEVENT
SUMMARY:Meditationskurs für Anfänger (3G)
DTSTART;TZID=Europe/Berlin:20211017T190000
DTEND;TZID=Europe/Berlin:20211017T200000
LOCATION:Karbener Weg 8-10, Karben
DESCRIPTION: Durch Achtsamkeits- oder Konzentrationsübungen kann sich der Geist beruhigen und sammeln. In östlichen Kulturen gilt sie als eine grundlegende und zentrale bewusstseinserweiternde Übung. Die angestrebten Bewusstseinszustände werden, je nach Tradition, unterschiedlich und oft mit Begriffen wie Stille , Leere , Panorama-Bewusstsein, Eins-Sein, im Hier und Jetzt sein oder frei von Gedanken sein , beschrieben.

Durch einfache Meditationsübungen kann jeder lernen, in sich zu gehen, still zu werden und Klarheit und innere Ruhe zu kultivieren, um das Leben positiv zu beeinflussen.

Du wirst in dem Meditationskurs die Grundlagen der Meditation  sowie die wesentlichen Meditationstechniken kennenlernen. Wir üben die Grundhaltung für das Sitzen in der Meditation, sowie unterschiedliche Meditationsformen. Beim Kurs mit 5 Terminen kann jeder vom Erfahrungsaustausch mit den anderen Teilnehmern profitieren.

Was kann mit Meditation erreicht werden?
- Konzentration wird gefördert
- Stress wird abgebaut
- Verspannungen lösen sich
- Herz-Kreislaufsystem wird entlastet
- Blutdruck und Puls wird gesenkt
- Kreativität wird erhöht
STATUS:CONFIRMED
SEQUENCE:0
END:VEVENT
END:VCALENDAR