BEGIN:VCALENDAR
VERSION:2.0
CALSCALE:GREGORIAN
BEGIN:VEVENT
SUMMARY:Regeneratives Yoga / im Studio (2Gplus)
DTSTART;TZID=Europe/Berlin:20220223T193000
DTEND;TZID=Europe/Berlin:20220223T203000
LOCATION:Karbener Weg 8-10, Karben
DESCRIPTION: Restorative (Regeneration) bedeutet erholsam und stärkend. Im Regeneratives Yoga kann jeder mithilfe von Kissen, Decken und anderen Stützen in Körperhaltungen kommen, die sich unglaublich bequem anfühlen. Dabei entsteht ein Wohlbefinden, das unser Nervensystem nachhaltig beruhigt und die negativen Folgen von Stress bekämpft. Wir erleben am eigenen Körper, wie es sich anfühlt einfach da zu sein. Ohne Aufgaben, ohne Arbeit, ohne Zwang zur Rechtfertigung. Die Positionen werden jeweils ca. 10 Minuten eingenommen.
STATUS:CONFIRMED
SEQUENCE:0
END:VEVENT
END:VCALENDAR