BEGIN:VCALENDAR
VERSION:2.0
CALSCALE:GREGORIAN
BEGIN:VEVENT
SUMMARY:Autogenes Training, Anfängerkurs (2Gplus)
DTSTART;TZID=Europe/Berlin:20220227T190000
DTEND;TZID=Europe/Berlin:20220227T200000
LOCATION:Karbener Weg 8-10, Karben
DESCRIPTION: In diesem Entspannungskurs lernst Du, mit Hilfe von formelhaften Vorsätzen, gedanklich positiven Einfluss auf körperliche Vorgänge zu nehmen (BSP. für die Ruheformel: &quot;Ich bin ganz ruhig und gelassen&quot;). So wird der Körper allein durch Deine Vorstellungskraft auf Ruhe und Entspannung trainiert. Durch regelmäßiges Entspannungstraining löst Du so körperliche und seelische Verspannungen.
STATUS:CONFIRMED
SEQUENCE:0
END:VEVENT
END:VCALENDAR