BEGIN:VCALENDAR
VERSION:2.0
CALSCALE:GREGORIAN
BEGIN:VEVENT
SUMMARY:Achtsam durch die Rauhnächte mit Yoga &amp; Meditation (2G)
DTSTART;TZID=Europe/Berlin:20220103T190000
DTEND;TZID=Europe/Berlin:20220103T201500
LOCATION:Karbener Weg 8-10, Karben
DESCRIPTION: 10. Rauhnacht / Montag, 3. Januar, 19-20:15 Uhr
Thema: Wissen, Vision, Reife, Weisheit, Balance, Ausgleich, Harmonie (Oktober)
Yoga fürs Scheitelchakra, Meditation
STATUS:CONFIRMED
SEQUENCE:0
END:VEVENT
END:VCALENDAR