BEGIN:VCALENDAR
VERSION:2.0
CALSCALE:GREGORIAN
BEGIN:VEVENT
SUMMARY:Achtsam durch die Rauhnächte mit Yoga &amp; Meditation / Online via Zoom
DTSTART;TZID=Europe/Berlin:20211231T160000
DTEND;TZID=Europe/Berlin:20211231T171500
LOCATION:Online via Zoom
DESCRIPTION: 7. Rauhnacht / Freitag, 31. Dezember, 16-17:15 Uhr
Thema: Vorbereitung auf das neue Jahr (Juli)
Yin &amp;amp; Yang Yoga, Meditation, Orakelkarte ziehen
STATUS:CONFIRMED
SEQUENCE:0
END:VEVENT
END:VCALENDAR