BEGIN:VCALENDAR
VERSION:2.0
CALSCALE:GREGORIAN
BEGIN:VEVENT
SUMMARY:Yoga für Anfänger / Studio oder Outdoor
DTSTART;TZID=Europe/Berlin:20220704T193000
DTEND;TZID=Europe/Berlin:20220704T204500
LOCATION:Studio oder Brunnenstr. 1, Karben (JUKUZ)
DESCRIPTION: Je nach Wetter sind wir im Studio oder Outdoor (Brunnenstr. 1 in Karben, neben dem JUKUZ auf der Außenwiese, da wo der Eingang zum Rapp&#039;s Erlebnisgarten ist, kommt ihr direkt auf die Außenwiese.
Ich entscheide es tagesaktuell bis 12 Uhr, Info teile ich in der Outdoor-WhatsApp-Gruppe.


Diese Stunde eignet sich für alle, die sich langsam mit Yoga vertraut machen möchten. Du lernst, Deine Atmung zu spüren und die Grundbewegungen eines Sonnengrußes sowie einige Grundhaltungen (Asanas) im Yoga kennen. Du erfährst was Yoga ist und lernst die wohltuende Wirkung des Yogas kennen.
STATUS:CONFIRMED
SEQUENCE:0
END:VEVENT
END:VCALENDAR