BEGIN:VCALENDAR
VERSION:2.0
CALSCALE:GREGORIAN
BEGIN:VEVENT
SUMMARY:Yin Yoga / Nur Videolink
DTSTART;TZID=Europe/Berlin:20220515T190000
DTEND;TZID=Europe/Berlin:20220515T201500
LOCATION:Online via Zoom
DESCRIPTION: 
STATUS:CONFIRMED
SEQUENCE:0
END:VEVENT
END:VCALENDAR