BEGIN:VCALENDAR
VERSION:2.0
CALSCALE:GREGORIAN
BEGIN:VEVENT
SUMMARY:Nacken &amp; Schultern Yoga / Online via Zoom + Videolink
DTSTART;TZID=Europe/Berlin:20220127T173000
DTEND;TZID=Europe/Berlin:20220127T183000
LOCATION:Online via Zoom
DESCRIPTION: Eine Yogastunde ganz im Zeichen von Deinem Nacken und den Schultern. Es ist eine Wohltat, sich ausschliesslich um diese beiden sehr beanspruchten Körperpartien zu kümmern.
STATUS:CONFIRMED
SEQUENCE:0
END:VEVENT
END:VCALENDAR