BEGIN:VCALENDAR
VERSION:2.0
CALSCALE:GREGORIAN
BEGIN:VEVENT
SUMMARY:Kakao Zeremonie mit Yin Yoga und Meditation
DTSTART;TZID=Europe/Berlin:20210808T180000
DTEND;TZID=Europe/Berlin:20210808T213000
LOCATION:Am Rollgraben 15, Karben
DESCRIPTION: Seit ca. 3000 Jahren gilt die Kakaopflanze als heilige Medizin und wird seit jeher bei indigenen Völkern im Rahmen von Ritualen gemeinsam verköstigt. Einem Mythos zur Folge kommt der Kakaogeist immer dann zu den Menschen, wenn das die Verbindung zwischen Natur und Menschheit im Ungleichgewicht ist.

So leben wir nun in einer Zeit, in der dieses geheim gehaltene Wissen um die Kakaopflanze der Menschheit wieder zur Verfügung gestellt und von den indigenen Völkern weitergegeben wurde. 

Der Kakao verbindet uns mit unserem Emotionalkörper, dem Herzen.

Im Rahmen einer gemeinsamen, bewussten Verköstigung ermöglichen wir dem Kakaogeist ganz sanft unsere Herzen zu öffnen und verbinden uns nach einer Atemübung mit unserem Herzen, miteinander &amp; mit Mutter Erde.
Vor der Verköstigung werden wir Yin Yoga und Meditation praktizieren.
STATUS:CONFIRMED
SEQUENCE:0
END:VEVENT
END:VCALENDAR