BEGIN:VCALENDAR
VERSION:2.0
CALSCALE:GREGORIAN
BEGIN:VEVENT
SUMMARY:Hatha Yoga / Studio
DTSTART;TZID=Europe/Berlin:20220531T193000
DTEND;TZID=Europe/Berlin:20220531T204500
LOCATION:Karbener Weg 8-10
DESCRIPTION: Heute findet die Stunde im Studio statt.

Hatha Yoga umfasst eine Reihe von Yoga Haltungen, die Deinen Körper, Deine Muskeln und Deinen Geist stärken und ausrichten. „Hatha“ lässt sich mit „kraftvoll“ oder auch „bewusst“ übersetzen. Dabei werden die Kanäle Deines Körpers geöffnet, so dass die Energie frei fließen kann.
Eine Hatha Yogastunde ist geprägt von eher langsamen, und trotzdem auch kraftvollen Yoga Übungen.
STATUS:CONFIRMED
SEQUENCE:0
END:VEVENT
END:VCALENDAR