BEGIN:VCALENDAR
VERSION:2.0
CALSCALE:GREGORIAN
BEGIN:VEVENT
SUMMARY:Yin Yoga am Morgen
DTSTART;TZID=Europe/Berlin:20260206T100000
DTEND;TZID=Europe/Berlin:20260206T111500
LOCATION:
DESCRIPTION: dein entspannter Start ins Wochenende mit sanften Yin Yoga Übungen am Morgen
STATUS:CONFIRMED
SEQUENCE:0
END:VEVENT
END:VCALENDAR