BEGIN:VCALENDAR
VERSION:2.0
CALSCALE:GREGORIAN
BEGIN:VEVENT
SUMMARY:NEU: Early Morning Flow
DTSTART;TZID=Europe/Berlin:20241212T073000
DTEND;TZID=Europe/Berlin:20241212T083000
LOCATION:Yoga Loft Landsberg
DESCRIPTION: Starte kraftvoll und ausgeglichen in den Tag - und gönne dir gleich am Morgen Mobilität, Flexibilität und Kraft. Die Stunde richtet sich an alle Level und hilft dir, dem oft trubeligen Alltag mit Stabilität und Stärke zu begegnen. 
- mit Estelle Zewe
STATUS:CONFIRMED
SEQUENCE:0
END:VEVENT
END:VCALENDAR