BEGIN:VCALENDAR
VERSION:2.0
CALSCALE:GREGORIAN
BEGIN:VEVENT
SUMMARY:Weihnachts-Yoga für alle
DTSTART;TZID=Europe/Berlin:20241223T183000
DTEND;TZID=Europe/Berlin:20241223T194500
LOCATION:Yoga Loft Landsberg
DESCRIPTION: Komme am tag vor Weihnachten nochmal ganz zu dir und schenke dir Zeit auf der Matte!
- mit Nina Juhnke
STATUS:CONFIRMED
SEQUENCE:0
END:VEVENT
END:VCALENDAR