BEGIN:VCALENDAR
VERSION:2.0
CALSCALE:GREGORIAN
BEGIN:VEVENT
SUMMARY:WORKSHOP: Rest &amp; Digest - Yoga für das Nervensystem
DTSTART;TZID=Europe/Berlin:20250126T170000
DTEND;TZID=Europe/Berlin:20250126T190000
LOCATION:Yoga Loft Landsberg
DESCRIPTION: In unserem spannenden Special Rest &amp;amp; Digest lernst du Techniken und Hintergründe, wie du dein Nervensystem nachhaltig entspannen kannst und bekommst alltagstaugliche Tipps, um langfristige Veränderungen zu erzielen.
Geeignet ist dieser Workshop für alle, die sich und ihrem Nervensystem wirkliche Entspannung gönnen möchten und das Jahr 2025 mit etwas weniger Stress angehen wollen.
- mit Nina
STATUS:CONFIRMED
SEQUENCE:0
END:VEVENT
END:VCALENDAR