BEGIN:VCALENDAR
VERSION:2.0
CALSCALE:GREGORIAN
BEGIN:VEVENT
SUMMARY:SPECIAL: Yin &amp; Sound
DTSTART;TZID=Europe/Berlin:20250321T190000
DTEND;TZID=Europe/Berlin:20250321T203000
LOCATION:Yoga Loft Landsberg
DESCRIPTION: Tiefe Erholung für Körper, Geist und Seele: Bei unserem Special „Yin und Sound“ begleitet Yogalehrerin und Klangtrainerin Sabrina dich durch die tiefgreifenden und wirkungsvollen Dehnungen des Yin Yoga, während zu Beginn und Ende der Session die Sounds der Kristallklangschalen dein Unterbewusstsein in einen Zustand vollkommener Entspannung versetzen.
Du brauchst keine Vorkenntnisse, sondern darfst einfach abschalten und dir diese verdiente Pause vom Alltag schenken!

- mit Sabrina Bierhals
STATUS:CONFIRMED
SEQUENCE:0
END:VEVENT
END:VCALENDAR