BEGIN:VCALENDAR
VERSION:2.0
CALSCALE:GREGORIAN
BEGIN:VEVENT
SUMMARY:SPECIAL: Gesund mit Duft (inkl. Goodie)
DTSTART;TZID=Europe/Berlin:20250328T190000
DTEND;TZID=Europe/Berlin:20250328T203000
LOCATION:Yoga Loft Landsberg
DESCRIPTION: Bei unserem Special „Gesund mit Duft“ tauchst du ein in die faszinierende Welt der ätherischen Öle und lernst, wie du sie in deinem Alltag zur Gesundheitsförderung einsetzen kannst. 
Aromaberaterin Hanna Wagner begleitet dich durch den Abend und erklärt im theoretischen Teil, worauf du in der Aromatherapie achten solltest und wie du ätherische Öle zur Stärkung des Immunsystems, der emotionalen Gesundheit, der Verdauung, uvm. einsetzen kannst. Im zweiten Teil darfst du deine eigenen Themen einbringen, Öle ausprobieren und deine Fragen stellen.
Außerdem erhältst du ein kleines ätherisches Öl für Zuhause!
- mit Gastdozentin Hanna Wagner
STATUS:CONFIRMED
SEQUENCE:0
END:VEVENT
END:VCALENDAR