BEGIN:VCALENDAR
VERSION:2.0
CALSCALE:GREGORIAN
BEGIN:VEVENT
SUMMARY:SPECIAL: Klang &amp; Duft
DTSTART;TZID=Europe/Berlin:20250425T193000
DTEND;TZID=Europe/Berlin:20250425T210000
LOCATION:Yoga Loft Landsberg
DESCRIPTION: Mit Klang und Duft tankst du begleitet von Klangexpertin Sabrina und Aromaberaterin Hanna an diesem Abend Entspannung und Ruhe. Die Verbindung von den Sounds der Kristallklangschalen und hochwertigen ätherischen Ölen versetzt dein Nervensystem in einen tiefen Zustand der Gelassenheit.

Klänge haben eine profunde Wirkung auf Körper, Geist und Seele. Bei einem Klangbad oder Sound Bath kannst du tiefgehende Erfahrungen machen oder dich einfach entspannen. In einer oft hektischen und lauten Welt ist es wertvoll, Momente der Stille und des Loslassens zu schaffen. Mit dieser Klangmeditation laden Sabrina und Hanna dich ein, abzutauchen in eine Reise nach Innen.

Unterstützt wird das Klangbad durch ausgewählte, hochwertige ätherische Öle von DoTERRA, die dein Nervensystem herunterfahren und dir im Alltag mehr Entspannung schenken können. 
- mit Sabrina Bierhals und Hanna Wagner
STATUS:CONFIRMED
SEQUENCE:0
END:VEVENT
END:VCALENDAR