BEGIN:VCALENDAR
VERSION:2.0
CALSCALE:GREGORIAN
BEGIN:VEVENT
SUMMARY:yin Nidra XL
DTSTART;TZID=Europe/Amsterdam:20220628T193000
DTEND;TZID=Europe/Amsterdam:20220628T211500
LOCATION:Bulkseweg 15a 5331 KP Kerkdriel
DESCRIPTION: Een heerlijk ontspannende yin les met aansluitend een rustgevende en reinigende Nidra sessie
STATUS:CONFIRMED
SEQUENCE:0
END:VEVENT
END:VCALENDAR