BEGIN:VCALENDAR
VERSION:2.0
CALSCALE:GREGORIAN
BEGIN:VEVENT
SUMMARY:Bikram SILENT CLASS
DTSTART;TZID=Europe/London:20251121T173000
DTEND;TZID=Europe/London:20251121T190000
LOCATION:3a Rue De Funchal
DESCRIPTION: Minimum 10 class experience required to be to participate in Silent classes. Not for new people and not for people on the Free pass offer who are new to YM.  Classic. The Original Hot Yoga. 90 Minutes. In Silence. (Free pass offer if for !7 classes in 8 days! we don&#039;t normally run a Friday class so that offer is still very valid and achievable).
STATUS:CONFIRMED
SEQUENCE:0
END:VEVENT
END:VCALENDAR