BEGIN:VCALENDAR
VERSION:2.0
CALSCALE:GREGORIAN
BEGIN:VEVENT
SUMMARY:Pilates
DTSTART;TZID=Europe/Amsterdam:20260330T203000
DTEND;TZID=Europe/Amsterdam:20260330T214000
LOCATION:Studio Burgemeester schoolmeestersstraat 22
DESCRIPTION: Pilates is een training waarbij het hele lichaam wordt getraind. Het centrum en de kracht komt daarbij vanuit de core spieren. De rugspieren en de buikspieren. Het is een intense les op laag cardio niveau. Krachtopbouw voor de grote en kleine spiergroepen, balans, weerstand, precisie, controle, flow en mindset. Begin rustig aan met opbouwen, luister naar het lichaam en wordt in relatief korte tijd sterker en beheerster. 
De les wordt afgesloten met 10 min eindontspanning. Van relaxatie, begeleide meditatie tot soundhealing. Om zo ook tijdens een intensieve les, lekker zen naar huis te gaan.🪷
STATUS:CONFIRMED
SEQUENCE:0
END:VEVENT
END:VCALENDAR