BEGIN:VCALENDAR
VERSION:2.0
CALSCALE:GREGORIAN
BEGIN:VEVENT
SUMMARY:Ashtanga Inspired Yoga
DTSTART;TZID=Europe/London:20260619T070000
DTEND;TZID=Europe/London:20260619T081500
LOCATION:4 Lansdowne Crescent
DESCRIPTION: Join Sam for a high energy start to the day. This class draws from the Ashtanga Primary Series. You will; build strength and increase flexibility, develop autonomy in your practice, set a pace that is right for your body and mind. Sam will tailor for different levels of experience by suggesting variations and modifications. Leave feeling ready for the weekend!
STATUS:CONFIRMED
SEQUENCE:0
END:VEVENT
END:VCALENDAR