BEGIN:VCALENDAR
VERSION:2.0
CALSCALE:GREGORIAN
BEGIN:VEVENT
SUMMARY:Yoga für Mamas mit Baby
DTSTART;TZID=Europe/Berlin:20220706T100000
DTEND;TZID=Europe/Berlin:20220706T111500
LOCATION:Bahnhofsstraße 1
DESCRIPTION: 
STATUS:CONFIRMED
SEQUENCE:0
END:VEVENT
END:VCALENDAR