BEGIN:VCALENDAR
VERSION:2.0
CALSCALE:GREGORIAN
BEGIN:VEVENT
SUMMARY:Sonnengrüße &amp; Yin Yoga am Morgen
DTSTART;TZID=Europe/Berlin:20221003T093000
DTEND;TZID=Europe/Berlin:20221003T104500
LOCATION:Bahnhofsstraße 1
DESCRIPTION: Yin Yoga ist ein sehr ruhiger und passiver Yogastil. Durch langes Halten der Asanas (circa 3-5 min.) erreicht man eine sanfte und effektive Dehnung, ganz ohne Leitungsdruck und Muskelanspannung. Die angestrebte Yin Yoga Wirkung liegt in der absoluten Entspannung.
STATUS:CONFIRMED
SEQUENCE:0
END:VEVENT
END:VCALENDAR