BEGIN:VCALENDAR
VERSION:2.0
CALSCALE:GREGORIAN
BEGIN:VEVENT
SUMMARY:Kurs von Montag-  Hatha Yoga
DTSTART;TZID=Europe/Berlin:20230124T191500
DTEND;TZID=Europe/Berlin:20230124T203000
LOCATION:Bahnhofstraße 1, Yogaraum
DESCRIPTION: 
STATUS:CONFIRMED
SEQUENCE:0
END:VEVENT
END:VCALENDAR