BEGIN:VCALENDAR
VERSION:2.0
CALSCALE:GREGORIAN
BEGIN:VEVENT
SUMMARY:Yin Yoga Live en Online
DTSTART;TZID=Europe/Amsterdam:20220316T190000
DTEND;TZID=Europe/Amsterdam:20220316T203000
LOCATION:Vreeswijk
DESCRIPTION: Low impact yoga, waarin de posities lang ( 3 tot 5 minuten) worden aangehouden. 

Ter verdieping, versterking, loslaten en ontspanning. Les voor alle niveaus.
STATUS:CONFIRMED
SEQUENCE:0
END:VEVENT
END:VCALENDAR