BEGIN:VCALENDAR
VERSION:2.0
CALSCALE:GREGORIAN
BEGIN:VEVENT
SUMMARY:Workshop Vinyasa Power Yoga
DTSTART;TZID=Europe/Amsterdam:20220407T200000
DTEND;TZID=Europe/Amsterdam:20220407T213000
LOCATION:Vreeswijk Prins Hendriklaan 27
DESCRIPTION: LET OP ::
Los van het rooster &gt;&gt; deze workshop kost 20 Euro!!

Knallen zoals alleen Vin dat kan :-)
STATUS:CONFIRMED
SEQUENCE:0
END:VEVENT
END:VCALENDAR