BEGIN:VCALENDAR
VERSION:2.0
CALSCALE:GREGORIAN
BEGIN:VEVENT
SUMMARY:Yin Yoga live en online
DTSTART;TZID=Europe/Amsterdam:20220608T190000
DTEND;TZID=Europe/Amsterdam:20220608T203000
LOCATION:Vreeswijk Prins Hendriklaan 27
DESCRIPTION: Low Impact Yoga waarin de asanas lang worden aangehouden rond de 3 á 5 minuten.

zorgt voor lichamelijk en geestelijke meditatie
STATUS:CONFIRMED
SEQUENCE:0
END:VEVENT
END:VCALENDAR