BEGIN:VCALENDAR
VERSION:2.0
CALSCALE:GREGORIAN
BEGIN:VEVENT
SUMMARY:Easy flow Live en Online
DTSTART;TZID=Europe/Amsterdam:20221102T091500
DTEND;TZID=Europe/Amsterdam:20221102T103000
LOCATION:Nijverheidsweg 9C
DESCRIPTION: 
STATUS:CONFIRMED
SEQUENCE:0
END:VEVENT
END:VCALENDAR