BEGIN:VCALENDAR
VERSION:2.0
CALSCALE:GREGORIAN
BEGIN:VEVENT
SUMMARY:Morning practice with Vered
DTSTART;TZID=America/New_York:20250626T090000
DTEND;TZID=America/New_York:20250626T143500
LOCATION:25 Baldpate Hill Rd Newton MA
DESCRIPTION: 
STATUS:CONFIRMED
SEQUENCE:0
END:VEVENT
END:VCALENDAR