BEGIN:VCALENDAR
VERSION:2.0
CALSCALE:GREGORIAN
BEGIN:VEVENT
SUMMARY:MEDISCH: Beweegslessen voor mensen die revalideren.
DTSTART;TZID=Europe/Amsterdam:20220722T130000
DTEND;TZID=Europe/Amsterdam:20220722T140000
LOCATION:Nazareth, &#039;s Gravenstraat 170 (Silhouelle)
DESCRIPTION: Mensen met specifieke klachten, kunnen hier deelnemen aan een les.

Wil je weten of je in aanmerking komt?
Maak eerst een afspraak met Eline.
STATUS:CONFIRMED
SEQUENCE:0
END:VEVENT
END:VCALENDAR