BEGIN:VCALENDAR
VERSION:2.0
CALSCALE:GREGORIAN
BEGIN:VEVENT
SUMMARY:Vinyasa am Montag
DTSTART;TZID=Europe/Berlin:20270830T173000
DTEND;TZID=Europe/Berlin:20270830T183000
LOCATION:
DESCRIPTION: in Flow, der dich erdet und gleichzeitig neue Energie schenkt. Fließende Bewegungen verbinden Stabilität mit sanfter Öffnung von Körper und Geist. Die ruhige, leicht dynamische Praxis eignet sich ideal, um den Tag ausklingen zu lassen und zentriert in die zweite Wochenhälfte zu gehen.
Alle Level sind willkommen.
STATUS:CONFIRMED
SEQUENCE:0
END:VEVENT
END:VCALENDAR