BEGIN:VCALENDAR
VERSION:2.0
CALSCALE:GREGORIAN
BEGIN:VEVENT
SUMMARY:Creative Vinyasa Flow
DTSTART;TZID=Europe/Berlin:20271202T180000
DTEND;TZID=Europe/Berlin:20271202T185500
LOCATION:Belziger Straße 53, 10823 Berlin
DESCRIPTION: Diese Klasse verbindet Stabilität, Kraft und Körperwahrnehmung in einem dynamischen Flow. Kreativ aufgebaute Sequenzen bringen Abwechslung und laden dazu ein, neue Bewegungsmuster zu entdecken. Die bewusste Verbindung von Atem und Bewegung steht dabei im Mittelpunkt – für Kraft, Fokus und Leichtigkeit auf der Matte.

Alle Level sind willkommen.
STATUS:CONFIRMED
SEQUENCE:0
END:VEVENT
END:VCALENDAR