BEGIN:VCALENDAR
VERSION:2.0
CALSCALE:GREGORIAN
BEGIN:VEVENT
SUMMARY:Yin Yoga [Tonnay Charente 🔵]
DTSTART;TZID=Europe/Paris:20251203T193000
DTEND;TZID=Europe/Paris:20251203T203000
LOCATION:38 Avenue du Pont Rouge 17430 Tonnay Charente
DESCRIPTION: 📌 Infos pratiques :
- Séance collective de 60 minutes (accueil 10 min avant le début du cours)
- La séance est assurée à partir de 4 élèves.
- Un e-mail de rappel est envoyé la veille.
- Report ou Annulation possible jusqu’à 12h avant la séance ; passé ce délai, la séance reste due (voir CGV).
**************************************
✨ QU EST CE QUE LE YIN YOGA ? 
Le Yin Yoga est une pratique lente, méditative et profondément régénérante. Les postures sont tenues plusieurs minutes dans l&amp;#039;immobilité, permettant de relâcher les tensions physiques et mentales, tout en ciblant les tissus profonds (fascias, ligaments).

Les principes clés : 
✔️ Postures au sol, sans engagement musculaire 
✔️ Utilisation de supports pour s’adapter à chacun 
✔️ Respiration lente, pleine conscience, recentrage

👥 POUR QUI ?
Accessible à tous, même sans souplesse ni expérience. Recommandé en cas de fatigue, stress ou besoin de ralentir. Pratique complémentaire à une pratiques sportive plus dynamique. 

🧺 MATÉRIEL À PRÉVOIR :
- Tenue confortable et chaude
- Votre tapis de yoga épais (fourni si besoin, personnel recommandé)
- Couverture ou plaid (indispensable)
- 1 ou 2 blocs de yoga (disponibles sur place)
- Votre Bolster ou équivalent (coussin ferme, traversin, serviette roulée)

➡️ COMMODITÉS : 
- WC 
- Parking gratuit

Hâte de vous retrouver sur le tapis !  

Aurélie 🌸
STATUS:CONFIRMED
SEQUENCE:0
END:VEVENT
END:VCALENDAR