BEGIN:VCALENDAR
VERSION:2.0
CALSCALE:GREGORIAN
BEGIN:VEVENT
SUMMARY:Yin Yoga [St Agnant 🟠]
DTSTART;TZID=Europe/Paris:20251209T193000
DTEND;TZID=Europe/Paris:20251209T203000
LOCATION:102 avenue Charles de Gaulle 17620 Saint Agnant
DESCRIPTION: ✨ 𝐈𝐧𝐟𝐨𝐬 𝐩𝐫𝐚𝐭𝐢𝐪𝐮𝐞𝐬 𝐞𝐭 𝐟𝐨𝐧𝐜𝐭𝐢𝐨𝐧𝐧𝐞𝐦𝐞𝐧𝐭 – 𝐂𝐨𝐮𝐫𝐬 𝐝𝐞 𝐒𝐚𝐢𝐧𝐭-𝐀𝐠𝐧𝐚𝐧𝐭 ✨

Je donne les cours à Saint-Agnant pour le compte de l 𝗮𝘀𝘀𝗼𝗰𝗶𝗮𝘁𝗶𝗼𝗻 𝗔𝘁𝗺𝗮𝗻𝗮 𝗩𝗶𝘁𝗮𝗹𝗶𝘁é.

👉 Réserve ta place uniquement sur le planning de l 𝗮𝘀𝘀𝗼𝗰𝗶𝗮𝘁𝗶𝗼𝗻 𝗔𝘁𝗺𝗮𝗻𝗮 𝗩𝗶𝘁𝗮𝗹𝗶𝘁é (lien actif en bas de page)

 👉 Cartes de cours : Elles sont 𝗶𝗻𝗱é𝗽𝗲𝗻𝗱𝗮𝗻𝘁𝗲𝘀 𝗱𝗲 𝗺𝗼𝗻 𝗽𝗹𝗮𝗻𝗻𝗶𝗻𝗴 𝗵𝗮𝗯𝗶𝘁𝘂𝗲𝗹 et peuvent être utilisées sur tout le planning de l’𝗮𝘀𝘀𝗼𝗰𝗶𝗮𝘁𝗶𝗼𝗻 (voir photo).

💰 𝗧𝗮𝗿𝗶𝗳𝘀 𝗮𝘀𝘀𝗼𝗰𝗶𝗮𝘁𝗶𝗼𝗻 𝗔𝘁𝗺𝗮𝗻𝗮 𝗩𝗶𝘁𝗮𝗹𝗶𝘁é: 
* Séance à l’unité : 15 €
* Carte 10 cours : 130 €
* Carte 20 cours : 240 €
* Carte 40 cours : 440 €
📌 Les cartes sont à prendre 𝗱𝗶𝗿𝗲𝗰𝘁𝗲𝗺𝗲𝗻𝘁 sur place (chèque ou espèces) et utilisables en réservant sur le planning de l’association.
https://www.supersaas.fr/schedule/Atmana-yogavitalite/Cours_atmana_yoga

ℹ️ 𝗦𝗮𝗹𝗹𝗲 𝗲𝘁 𝗺𝗮𝘁é𝗿𝗶𝗲𝗹 :
* Rez-de-chaussée : vestiaire avec WC et étagères pour vos chaussures
* À l’étage : salle de pratique avec matériel disponible si vous n’en avez pas

🅿️ 𝗦𝘁𝗮𝘁𝗶𝗼𝗻𝗻𝗲𝗺𝗲𝗻𝘁 : places disponibles sur la place de l’église ou place de Verdun (2-3 min à pied)

✨ 𝗖𝗼𝗻𝘀𝗲𝗶𝗹𝘀 𝗽𝗼𝘂𝗿 𝗽𝗿𝗼𝗳𝗶𝘁𝗲𝗿 𝗽𝗹𝗲𝗶𝗻𝗲𝗺𝗲𝗻𝘁 𝗱𝗲 𝘃𝗼𝘁𝗿𝗲 𝗰𝗼𝘂𝗿𝘀
* Arrivez 5 à 10 minutes avant pour vous installer tranquillement et profiter du moment pour vous détendre
* Prévoyez votre tenue confortable et, si possible, votre tapis
* Hydratez-vous avant et après la séance

Hâte de vous retrouver sur le tapis !  

Aurélie 🌸
STATUS:CONFIRMED
SEQUENCE:0
END:VEVENT
END:VCALENDAR