BEGIN:VCALENDAR
VERSION:2.0
CALSCALE:GREGORIAN
BEGIN:VEVENT
SUMMARY:Atelier - Professionnelles Petite Enfance
DTSTART;TZID=Europe/Paris:20251216T194500
DTEND;TZID=Europe/Paris:20251216T214500
LOCATION:42 Rue de Fontseche, 17430 Tonnay-Charente
DESCRIPTION: Animation d’Ateliers auprès des Assistantes Maternelles (Tonnay Charente)
STATUS:CONFIRMED
SEQUENCE:0
END:VEVENT
END:VCALENDAR