BEGIN:VCALENDAR
VERSION:2.0
CALSCALE:GREGORIAN
BEGIN:VEVENT
SUMMARY:Aerial Yoga
DTSTART;TZID=Europe/Berlin:20260226T193000
DTEND;TZID=Europe/Berlin:20260226T204000
LOCATION:Herxheim
DESCRIPTION: Ganzkörpermobilisierung, Stretching und Stärkung der Muskulatur

Mit der Buchung dieses Kurses, akzeptierst du unsere AGBs!
STATUS:CONFIRMED
SEQUENCE:0
END:VEVENT
END:VCALENDAR