BEGIN:VCALENDAR
VERSION:2.0
CALSCALE:GREGORIAN
BEGIN:VEVENT
SUMMARY:Yin Yoga - with Rachele Pupilli
DTSTART;TZID=Pacific/Auckland:20250724T180000
DTEND;TZID=Pacific/Auckland:20250724T190000
LOCATION:Yoga Roots home studio, Torbay
DESCRIPTION: *Rachele is covering for Carme this week, instead of Moon Yoga this week we are offering a Yin Yoga class.*  (Moon Yoga is back on the 14th of August)

This class is the perfect way to ground and unwind after a busy day. 

Yoga mats, props and relaxing vibes are all included.

This class is open for all levels, and suitable for beginners.

Location: 
Yoga Roots studio
108 Deep Creek Road, Torbay

Pricing:
casual class $25 
5-class pass $110 (valid for 3 months)

I welcome any questions you might have via 0211831828.
STATUS:CONFIRMED
SEQUENCE:0
END:VEVENT
END:VCALENDAR