BEGIN:VCALENDAR
VERSION:2.0
CALSCALE:GREGORIAN
BEGIN:VEVENT
SUMMARY:Moon Yoga - with Carme Aguayo
DTSTART;TZID=Pacific/Auckland:20250828T180000
DTEND;TZID=Pacific/Auckland:20250828T190000
LOCATION:Yoga Roots home studio, Torbay
DESCRIPTION: In these Moon Yoga classes, we will flow through yoga practices inspired by the phases of the moon, aligning with the Maramataka (Māori lunar calendar).   

Each week we will explore the unique energy of a different moon phase, moving through Moon Salutations and grounding sequences that nurture the body, mind, and spirit.   

These classes offer a journey of connection, reflection, and balance. Inviting deeper awareness and honouring the natural cycles within and around you.   Moon Yoga helps you to come more in tune with the natural bio rhythm and seasons, and to embody the wisdom of the moon.   

Suitable for all levels, including beginners.  

Location: 
Yoga Roots home studio
108 Deep Creek Road, Torbay

Pricing:
casual class $25 
5-class pass $110 (valid for 3 months)

I welcome any questions you might have via marjolein@yogaroots.co.nz or 0211831828.

This classes are facilitated by Carme Aguayo. Carme infuses her life and practices with Bhakti, spiritual devotion and beauty. With over 10 years of yoga practice and training in Embodied Flow, she is devoted to empowering and supporting women on their journey of self-love and acceptance. Her offerings are crafted to help reconnect with the wisdom of the body through nourishment and self-care. She invites curiosity to honour and move within the uniqueness of your own body-mind, with full agency, and in support of the nervous system.
STATUS:CONFIRMED
SEQUENCE:0
END:VEVENT
END:VCALENDAR