BEGIN:VCALENDAR
VERSION:2.0
CALSCALE:GREGORIAN
BEGIN:VEVENT
SUMMARY:Hatha &amp; relaxation
DTSTART;TZID=Europe/Paris:20250303T190000
DTEND;TZID=Europe/Paris:20250303T201500
LOCATION:KOPP
DESCRIPTION: Cours de yoga postural se terminant par une relaxation/ Yoga nîdra ou Yin Yoga
STATUS:CONFIRMED
SEQUENCE:0
END:VEVENT
END:VCALENDAR