BEGIN:VCALENDAR
VERSION:2.0
CALSCALE:GREGORIAN
BEGIN:VEVENT
SUMMARY:Air Yoga: Kids and parents Aerial yoga workshop
DTSTART;TZID=Pacific/Auckland:20230713T093000
DTEND;TZID=Pacific/Auckland:20230713T103000
LOCATION:2 Humphreys Drive | Ferrymead
DESCRIPTION: Looking for something different and fun to do with your child this school holidays?
Come and give aerial yoga a try- an hour workshop to build trust and confidence through fun and play, using the hammocks and fun partner moves to find the freedom to fly!
No experience needed
STATUS:CONFIRMED
SEQUENCE:0
END:VEVENT
END:VCALENDAR