BEGIN:VCALENDAR
VERSION:2.0
CALSCALE:GREGORIAN
BEGIN:VEVENT
SUMMARY:Sunrise Yoga Retreat- Taylors Mistake
DTSTART;TZID=Pacific/Auckland:20231014T070000
DTEND;TZID=Pacific/Auckland:20231014T110000
LOCATION:Taylors Mistake, Surf Life Saving Club
DESCRIPTION: Come and join me for this rejuvenating morning retreat. Starting with sunrise wake up yoga looking at the ocean, followed by a yoga nidra with Sound healing. We will then take a silent walk to Godley head and back for an ocean swim if you choose. Finishing the morning with a buffet breakfast from The Noursish Food Company
STATUS:CONFIRMED
SEQUENCE:0
END:VEVENT
END:VCALENDAR