BEGIN:VCALENDAR
VERSION:2.0
CALSCALE:GREGORIAN
BEGIN:VEVENT
SUMMARY:Yoga voor Turkije &amp; Syrië
DTSTART;TZID=Europe/Amsterdam:20230301T190000
DTEND;TZID=Europe/Amsterdam:20230301T201500
LOCATION:Kloostergaarde 16
DESCRIPTION: Speciale yogales om geld in te zamelen voor de slachtoffers van de aardbeving in Turkije en Syrië. De opbrengst van de les gaat geheel naar Giro 555. 

In deze les staan we even letterlijk stil bij de verschrikkelijke ramp die zoveel mensen getroffen heeft. Een les met aandacht voor mededogen en dankbaarheid. De eindontspanning wordt begeleid door klankschalen. 

De les is een rustige les, voor iedereen toegankelijk. Ook als je geen lid bent of nog nooit yoga hebt gedaan. Je bent van harte welkom. Jouw bijdrage is €15,00.
STATUS:CONFIRMED
SEQUENCE:0
END:VEVENT
END:VCALENDAR