BEGIN:VCALENDAR
VERSION:2.0
CALSCALE:GREGORIAN
BEGIN:VEVENT
SUMMARY:Hatha-Yoga Mittwochs 19:30 PRÄSENZ ONLY - 🕯️Candlelight Heart Chakra 🙏&amp; Jahresend-Meditation
DTSTART;TZID=Europe/Amsterdam:20241218T193000
DTEND;TZID=Europe/Amsterdam:20241218T210000
LOCATION:Y O G A - SCHULE Gabriele Schlitt
DESCRIPTION: 
STATUS:CONFIRMED
SEQUENCE:0
END:VEVENT
END:VCALENDAR