BEGIN:VCALENDAR
VERSION:2.0
CALSCALE:GREGORIAN
BEGIN:VEVENT
SUMMARY:YOGA-PRÄSENZ-PAUSE über Weihnachten &amp; Sylvester vom 24.12.2024 bis 08.01.2025 - Du möchtest auch in dieser Zeit YOGA mit mir praktizieren? Buche Dir eine Aufzeichnung. Deine inhatlichen Wünsche nehme ich gerne entgegen. Mit allen guten Wünschen, Gabi
DTSTART;TZID=Europe/Amsterdam:20241224T183000
DTEND;TZID=Europe/Amsterdam:20241224T190000
LOCATION:Y O G A - SCHULE Gabriele Schlitt
DESCRIPTION: 
STATUS:CONFIRMED
SEQUENCE:0
END:VEVENT
END:VCALENDAR