BEGIN:VCALENDAR
VERSION:2.0
CALSCALE:GREGORIAN
BEGIN:VEVENT
SUMMARY:Hatha-Yoga Montags 90min 19:00 Live ONLINE
DTSTART;TZID=Europe/Amsterdam:20250901T190000
DTEND;TZID=Europe/Amsterdam:20250901T203000
LOCATION:Wo Du gerade bist 😃
DESCRIPTION: Die Yoga-Kurse zeichnen sich durch langsames und gezieltes Hinführen in die einzelnen Yoga-Übungen aus.
Der Atem wird mit der Bewegung harmonisch verbunden.
Diese Atemlenkung wirkt beruhigend auf das ganze Nervensystem und fördert Dein Wohlbefinden. Durch die Konzentration auf den Atem kommt Dein Geist zur Ruhe. Ruhige Stunden wechseln sich mit dynamischen ab.
STATUS:CONFIRMED
SEQUENCE:0
END:VEVENT
END:VCALENDAR