BEGIN:VCALENDAR
VERSION:2.0
CALSCALE:GREGORIAN
BEGIN:VEVENT
SUMMARY:Hatha-Yoga Dienstags 18:30 PRÄSENZ - NUR BACK-UP, falls Montag nicht klappt
DTSTART;TZID=Europe/Amsterdam:20250701T183000
DTEND;TZID=Europe/Amsterdam:20250701T200000
LOCATION:Y O G A - SCHULE Gabriele Schlitt
DESCRIPTION: 
STATUS:CONFIRMED
SEQUENCE:0
END:VEVENT
END:VCALENDAR